BEGIN:VCALENDAR
VERSION:2.0
PRODID:-//ChamberMaster//Event Calendar 2.0//EN
METHOD:PUBLISH
X-PUBLISHED-TTL:P3D
REFRESH-INTERVAL:P3D
CALSCALE:GREGORIAN
BEGIN:VEVENT
DTSTART:20200211T213000Z
DTEND:20200211T233000Z
X-MICROSOFT-CDO-ALLDAYEVENT:FALSE
SUMMARY:BASH!
DESCRIPTION:Business Associate Social Hour (BASH) Tuesday\, Feburary 11\, 2020 4:30 PM - 6:30 PM ServiceMaster Quality Clean\, 26 Bratton Road Elkton\, MD 21921 Bring your business cards and be ready to mix and mingle while exploring new businesses and enjoying light refreshments! These events are free to members but please RSVP if you are planning on attending for a head count for refreshments. This month's event is sponsored by ServiceMaster Quality Clean and Your Personal Chef Catering.
X-ALT-DESC;FMTTYPE=text/html:Business Associate Social Hour (BASH) Tuesday\, Feburary 11\, 2020 4:30 PM - 6:30 PM ServiceMaster Quality Clean\, 26 Bratton Road Elkton\, MD 21921 Bring your business cards and be ready to mix and mingle while exploring new businesses and enjoying light refreshments! These events are free to members but please RSVP if you are planning on attending for a head count for refreshments. This month&#39\;s event is sponsored by ServiceMaster Quality Clean and Your Personal Chef Catering.
LOCATION:26 Bratton Rd Elkton
UID:e.2019.5174
SEQUENCE:3
DTSTAMP:20260421T103153Z
URL:http://cecilchamber.chambermaster.com/events/details/bash-5174
END:VEVENT

END:VCALENDAR
