BEGIN:VCALENDAR
VERSION:2.0
PRODID:-//ChamberMaster//Event Calendar 2.0//EN
METHOD:PUBLISH
X-PUBLISHED-TTL:P3D
REFRESH-INTERVAL:P3D
CALSCALE:GREGORIAN
BEGIN:VEVENT
DTSTART:20200306T220000Z
DTEND:20200307T010000Z
X-MICROSOFT-CDO-ALLDAYEVENT:FALSE
SUMMARY:CCAC Opening Reception
DESCRIPTION:Opening Reception at CCAC March at the arts council brings local alcohol ink artists\, Jennifer Lex Wojnar\, Catherine Houghton and Julie Cargill\, together for a group exhibition. Their exhibition\, "Imagininks" will display their works with vibrant alcohol ink on various mediums. ?In conjuction with the featured show\, the open show\, "Edibles" will hang in the back gallery. The opening reception will be held First Friday\, March 6 from 5 - 8 pm. Music will be provided by Ricky Holbrook. This is a free and family friendly event. CCAC is accessible to all.
X-ALT-DESC;FMTTYPE=text/html:Opening Reception at CCAC March at the arts council brings local alcohol ink artists\, Jennifer Lex Wojnar\, Catherine Houghton and Julie Cargill\, together for a group exhibition. Their exhibition\, &quot\;Imagininks&quot\; will display their works with vibrant alcohol ink on various mediums. ?In conjuction with the featured show\, the open show\, &quot\;Edibles&quot\; will hang in the back gallery. The opening reception will be held First Friday\, March 6 from 5 - 8 pm. Music will be provided by Ricky Holbrook. This is a free and family friendly event. CCAC is accessible to all.
LOCATION:Cecil County Arts Council 135 East Main Street\, Elkton
UID:e.2019.5181
SEQUENCE:3
DTSTAMP:20260423T203743Z
URL:http://cecilchamber.chambermaster.com/events/details/ccac-opening-reception-5181
END:VEVENT

END:VCALENDAR
