BEGIN:VCALENDAR
VERSION:2.0
PRODID:-//ChamberMaster//Event Calendar 2.0//EN
METHOD:PUBLISH
X-PUBLISHED-TTL:P3D
REFRESH-INTERVAL:P3D
CALSCALE:GREGORIAN
BEGIN:VEVENT
DTSTART:20191108T220000Z
DTEND:20191109T010000Z
X-MICROSOFT-CDO-ALLDAYEVENT:FALSE
SUMMARY:CCAC's Opening Reception
DESCRIPTION:The opening reception for Cecil County Arts Council's 20th Annual Photography Show will be held on Friday\, November 8\, from 5:00 - 8:00 p.m. Both Nick Cusmano and Jeanne Ott will be the featured artists and the remainder of the gallery will be open to all photographers. Enjoy light fare while enjoying live music provided by Dave Massimiano. Prizes will be awarded to first\, second and third place winners along with a "best in nature" award honoring Norma Calabro. This is a free and family friendly event.  CCAC is accessible to all.
X-ALT-DESC;FMTTYPE=text/html:The opening reception for Cecil County Arts Council&#39\;s 20th Annual Photography Show will be held on Friday\, November 8\, from 5:00 - 8:00 p.m. Both Nick Cusmano and Jeanne Ott will be the featured artists and the remainder of the gallery will be open to all photographers. Enjoy light fare while enjoying live music provided by Dave Massimiano. Prizes will be awarded to first\, second and third place winners along with a &quot\;best in nature&quot\; award honoring Norma Calabro. This is a free and family friendly event.&nbsp\; CCAC is accessible to all.
LOCATION:Cecil County Arts Council 135 East Main Street\, Elkton
UID:e.2019.5107
SEQUENCE:3
DTSTAMP:20260424T214648Z
URL:http://cecilchamber.chambermaster.com/events/details/ccac-s-opening-reception-5107
END:VEVENT

END:VCALENDAR
