BEGIN:VCALENDAR
VERSION:2.0
PRODID:-//ChamberMaster//Event Calendar 2.0//EN
METHOD:PUBLISH
X-PUBLISHED-TTL:P3D
REFRESH-INTERVAL:P3D
CALSCALE:GREGORIAN
BEGIN:VEVENT
DTSTART:20200322T140000Z
DTEND:20200322T160000Z
X-MICROSOFT-CDO-ALLDAYEVENT:FALSE
SUMMARY:CCAS Coffee with Cats
DESCRIPTION:Please join us on March 22nd at the animal shelter for kitty cuddles\, coffee\, and pastries. All proceeds with benefit our efforts to provide care to the homeless kitties of Cecil County. Tickets are available for only $15 at the following link.  Let's be honest...there is no better combination than coffee and the company of cats... we can't wait to see you there!\n\n\n\nhttps://www.eventbrite.com/e/coffee-with-cats-tickets-97759907515
X-ALT-DESC;FMTTYPE=text/html:Please join us on March 22nd at the animal shelter for kitty cuddles\, coffee\, and pastries. All proceeds with benefit our efforts to provide care to the homeless kitties of Cecil County. Tickets are available for only $15 at the following link.&nbsp\; Let&#39\;s be honest...there is no better combination than coffee and the company of cats... we can&#39\;t wait to see you there!<br />\n<br />\n<a href="https://www.eventbrite.com/e/coffee-with-cats-tickets-97759907515">https://www.eventbrite.com/e/coffee-with-cats-tickets-97759907515</a>
LOCATION:Cecil County Animal Services 3280 Augustine Herman Highway Chesapeake City\, MD 21921
UID:e.2019.5229
SEQUENCE:3
DTSTAMP:20260423T015633Z
URL:http://cecilchamber.chambermaster.com/events/details/ccas-coffee-with-cats-5229
END:VEVENT

END:VCALENDAR
