BEGIN:VCALENDAR
VERSION:2.0
PRODID:-//ChamberMaster//Event Calendar 2.0//EN
METHOD:PUBLISH
X-PUBLISHED-TTL:P3D
REFRESH-INTERVAL:P3D
CALSCALE:GREGORIAN
BEGIN:VEVENT
DTSTART:20191005T130000Z
DTEND:20191005T180000Z
X-MICROSOFT-CDO-ALLDAYEVENT:FALSE
SUMMARY:Cecil Cares
DESCRIPTION:Join Cecil County Department of Community Services and local organizations for an annual day of service on 10/5. Project locations vary\; please visit www.volunteercecil.org to sign up for the project of your choice!
X-ALT-DESC;FMTTYPE=text/html:Join Cecil County Department of Community Services and local organizations for an annual day of service on 10/5. Project locations vary\; please visit www.volunteercecil.org to sign up for the project of your choice!
LOCATION:
UID:e.2019.4078
SEQUENCE:3
DTSTAMP:20260421T142423Z
URL:http://cecilchamber.chambermaster.com/events/details/cecil-cares-4078
END:VEVENT

END:VCALENDAR
