BEGIN:VCALENDAR
VERSION:2.0
PRODID:-//ChamberMaster//Event Calendar 2.0//EN
METHOD:PUBLISH
X-PUBLISHED-TTL:P3D
REFRESH-INTERVAL:P3D
CALSCALE:GREGORIAN
BEGIN:VEVENT
DTSTART:20200604T193000Z
DTEND:20200604T203000Z
X-MICROSOFT-CDO-ALLDAYEVENT:FALSE
SUMMARY:Cecil County Covid Support Group
DESCRIPTION:Cecil County Covid Support Group Information\n\nJoin Zoom Meeting\n\nhttps://us02web.zoom.us/j/81465691241?pwd=Q1R2K1RKUmc5RlN4Sy9NTnNsNGNLdz09\n\n \n\nMeeting ID: 814 6569 1241\n\nPassword: 951399\n\nOne tap mobile\n\n+13017158592\,\,81465691241#\,\,1#\,951399# US (Germantown)\n\n+16465588656\,\,81465691241#\,\,1#\,951399# US (New York)
X-ALT-DESC;FMTTYPE=text/html:<p><span style="color:black\; font-size:12pt">Cecil County Covid Support Group Information<br />\nJoin Zoom Meeting</span></p>\n\n<p><span style="color:black\; font-size:12pt"><a href="https://us02web.zoom.us/j/81465691241?pwd=Q1R2K1RKUmc5RlN4Sy9NTnNsNGNLdz09">https://us02web.zoom.us/j/81465691241?pwd=Q1R2K1RKUmc5RlN4Sy9NTnNsNGNLdz09</a></span></p>\n\n<p><span style="color:black\; font-size:12pt">&nbsp\;</span></p>\n\n<p><span style="color:black\; font-size:12pt">Meeting ID: 814 6569 1241</span></p>\n\n<p><span style="color:black\; font-size:12pt">Password: 951399</span></p>\n\n<p><span style="color:black\; font-size:12pt">One tap mobile</span></p>\n\n<p><span style="color:black\; font-size:12pt">+13017158592\,\,81465691241#\,\,1#\,951399# US (Germantown)</span></p>\n\n<p><span style="color:black\; font-size:12pt">+16465588656\,\,81465691241#\,\,1#\,951399# US (New York)</span></p>\n\n<p><span style="color:black\; font-size:12pt">&nbsp\;</span></p>\n
LOCATION:
UID:e.2019.5261
SEQUENCE:3
DTSTAMP:20260423T233217Z
URL:http://cecilchamber.chambermaster.com/events/details/cecil-county-covid-support-group-5261
END:VEVENT

END:VCALENDAR
