BEGIN:VCALENDAR
VERSION:2.0
PRODID:-//ChamberMaster//Event Calendar 2.0//EN
METHOD:PUBLISH
X-PUBLISHED-TTL:P3D
REFRESH-INTERVAL:P3D
CALSCALE:GREGORIAN
BEGIN:VEVENT
DTSTART:20190915T180000Z
DTEND:20190915T190000Z
X-MICROSOFT-CDO-ALLDAYEVENT:FALSE
SUMMARY:Challenge Cup Championship!
DESCRIPTION:On these four Sundays in September\, we invite our wine lovers to Challenge themselves! Join our group\, blind-taste competition for a chance to win a gift card\, a specialized wine glass\, a free monster mash tickets\, or the trophy pictured above! We will have a competition table set up in the Hub with a guest announcer every week! Use our chalkboards to record your answer and only reveal as a group. Single Elimination rounds Game play lasts until one winner stands! Get your study on now!! **FREE ENTRY   Must Pre-Register**
X-ALT-DESC;FMTTYPE=text/html:On these four Sundays in September\, we invite our wine lovers to Challenge themselves! Join our group\, blind-taste competition for a chance to win a gift card\, a specialized wine glass\, a free monster mash tickets\, or the trophy pictured above! We will have a competition table set up in the Hub with a guest announcer every week! Use our chalkboards to record your answer and only reveal as a group. Single Elimination rounds&hellip\;Game play lasts until one winner stands! Get your study on now!! **FREE ENTRY &ndash\; Must Pre-Register**
LOCATION:Broken Spoke Vineyard & Winery 942 Glebe Road Earleville\, MD 21919 United States
UID:e.2019.4042
SEQUENCE:3
DTSTAMP:20260426T024823Z
URL:http://cecilchamber.chambermaster.com/events/details/challenge-cup-championship-4042
END:VEVENT

END:VCALENDAR
