BEGIN:VCALENDAR
VERSION:2.0
PRODID:-//ChamberMaster//Event Calendar 2.0//EN
METHOD:PUBLISH
X-PUBLISHED-TTL:P3D
REFRESH-INTERVAL:P3D
CALSCALE:GREGORIAN
BEGIN:VEVENT
DTSTART:20191116T180000Z
DTEND:20191116T220000Z
X-MICROSOFT-CDO-ALLDAYEVENT:FALSE
SUMMARY:Chocolate\, Cheese & JAM-boree
DESCRIPTION:Is food your love language? Ours too! Join us for this Holiday Pairing with our lovely food-friends: Chesapeake Gold Farms\, Sweet Dream Confections\, and Beth's Homemade Goods. Enjoy a unique pairing of these delicious local products paired with four Broken Spoke Wines. There will be two seating times\, 1:00pm and 4:00pm. Reservations are required & it is $22 to per person to join in the fun!
X-ALT-DESC;FMTTYPE=text/html:Is food your love language? Ours too! Join us for this Holiday Pairing with our lovely food-friends: Chesapeake Gold Farms\, Sweet Dream Confections\, and Beth&rsquo\;s Homemade Goods. Enjoy a unique pairing of these delicious local products paired with four Broken Spoke Wines. There will be two seating times\, 1:00pm and 4:00pm. Reservations are required &amp\; it is $22 to per person to join in the fun!
LOCATION:Broken Spoke Winery
UID:e.2019.4085
SEQUENCE:3
DTSTAMP:20260423T015633Z
URL:http://cecilchamber.chambermaster.com/events/details/chocolate-cheese-jam-boree-4085
END:VEVENT

END:VCALENDAR
