BEGIN:VCALENDAR
VERSION:2.0
PRODID:-//ChamberMaster//Event Calendar 2.0//EN
METHOD:PUBLISH
X-PUBLISHED-TTL:P3D
REFRESH-INTERVAL:P3D
CALSCALE:GREGORIAN
BEGIN:VEVENT
DTSTART:20191214T190000Z
DTEND:20191214T220000Z
X-MICROSOFT-CDO-ALLDAYEVENT:FALSE
SUMMARY:Cookie Exchange & Wreath Making
DESCRIPTION:Bring cookies to exchange & share with other wine lovers as you make your own small grapevine wreath. All supplies included to create one 6? wreath. We will have wine pairing notes for your favorite Traditional Christmas cookies for you to enjoy all holiday season long. Reservations required   one wreath included per ticket price. If you want to create more than one\, simply purchase an additional ticket!
X-ALT-DESC;FMTTYPE=text/html:Bring cookies to exchange &amp\; share with other wine lovers as you make your own small grapevine wreath. All supplies included to create one 6? wreath. We will have wine pairing notes for your favorite Traditional Christmas cookies for you to enjoy all holiday season long. Reservations required &ndash\; one wreath included per ticket price. If you want to create more than one\, simply purchase an additional ticket!
LOCATION:Broken Spoke Winery
UID:e.2019.4093
SEQUENCE:3
DTSTAMP:20260422T053905Z
URL:http://cecilchamber.chambermaster.com/events/details/cookie-exchange-wreath-making-4093
END:VEVENT

END:VCALENDAR
