BEGIN:VCALENDAR
VERSION:2.0
PRODID:-//ChamberMaster//Event Calendar 2.0//EN
METHOD:PUBLISH
X-PUBLISHED-TTL:P3D
REFRESH-INTERVAL:P3D
CALSCALE:GREGORIAN
BEGIN:VEVENT
DTSTART:20190922T160000Z
DTEND:20190922T200000Z
X-MICROSOFT-CDO-ALLDAYEVENT:FALSE
SUMMARY:Derby Days
DESCRIPTION:Paradox presents their jumper derby here on our farm! Come out to watch the event unfold! Stick around for our weekly farmer's market\, and listen to John Rodden preform in the HUB from 1-4pm.
X-ALT-DESC;FMTTYPE=text/html:Paradox presents their jumper derby here on our farm! Come out to watch the event unfold! Stick around for our weekly farmer&rsquo\;s market\, and listen to John Rodden preform in the HUB from 1-4pm.
LOCATION:Broken Spoke Vineyard & Winery 942 Glebe Road Earleville\, MD 21919 United States
UID:e.2019.4043
SEQUENCE:3
DTSTAMP:20260421T235617Z
URL:http://cecilchamber.chambermaster.com/events/details/derby-days-4043
END:VEVENT

END:VCALENDAR
