BEGIN:VCALENDAR
VERSION:2.0
PRODID:-//ChamberMaster//Event Calendar 2.0//EN
METHOD:PUBLISH
X-PUBLISHED-TTL:P3D
REFRESH-INTERVAL:P3D
CALSCALE:GREGORIAN
BEGIN:VEVENT
DTSTART:20200328T163000Z
DTEND:20200328T200000Z
X-MICROSOFT-CDO-ALLDAYEVENT:FALSE
SUMMARY:Essential Oils Lunch & Learn
DESCRIPTION:TOPIC: Why do healing essential oils matter in your life? Learn what they are and how to use them in your everyday life!\n\n\n\nFree lunch at 12:30 PM\n\n\n\nWe will be raffling off a goody bag and roller blend of oils of your choosing!
X-ALT-DESC;FMTTYPE=text/html:TOPIC: Why do healing essential oils matter in your life? Learn what they are and how to use them in your everyday life!<br />\n<br />\nFree lunch at 12:30 PM<br />\n<br />\nWe will be raffling off a goody bag and roller blend of oils of your choosing!
LOCATION:Sinking Springs 843 Elk Forest Road Elkton\, MD 21921
UID:e.2019.5205
SEQUENCE:3
DTSTAMP:20260423T204816Z
URL:http://cecilchamber.chambermaster.com/events/details/essential-oils-lunch-learn-5205
END:VEVENT

END:VCALENDAR
