BEGIN:VCALENDAR
VERSION:2.0
PRODID:-//ChamberMaster//Event Calendar 2.0//EN
METHOD:PUBLISH
X-PUBLISHED-TTL:P3D
REFRESH-INTERVAL:P3D
CALSCALE:GREGORIAN
BEGIN:VEVENT
DTSTART:20140130T180000Z
DTEND:20140130T210000Z
X-MICROSOFT-CDO-ALLDAYEVENT:FALSE
SUMMARY:Ethics Insurance CE Class
DESCRIPTION:Free Ethics class for licensed insurance agents in MD\, DE and PA actively writing homeowners and business coverage. Please contact Khristian Toolan with Marling's Emergency Water Removal at (302)325-1759 for details.
X-ALT-DESC;FMTTYPE=text/html:Free Ethics class for licensed insurance agents in MD\, DE and PA actively writing homeowners and business coverage. Please contact Khristian Toolan with Marling&#39\;s Emergency Water Removal at (302)325-1759 for details.
LOCATION:Prices Corner Wilmington\, DE
UID:e.2019.31
SEQUENCE:3
DTSTAMP:20260425T153409Z
URL:http://cecilchamber.chambermaster.com/events/details/ethics-insurance-ce-class-01-30-2014-31
END:VEVENT

END:VCALENDAR
