BEGIN:VCALENDAR
VERSION:2.0
PRODID:-//ChamberMaster//Event Calendar 2.0//EN
METHOD:PUBLISH
X-PUBLISHED-TTL:P3D
REFRESH-INTERVAL:P3D
CALSCALE:GREGORIAN
BEGIN:VEVENT
DTSTART:20190622T140000Z
DTEND:20190622T180000Z
X-MICROSOFT-CDO-ALLDAYEVENT:FALSE
SUMMARY:Everything is Free
DESCRIPTION:Everything is Free Free Food\, Snow Cones\, and other Stuff
X-ALT-DESC;FMTTYPE=text/html:Everything is Free Free Food\, Snow Cones\, and other Stuff
LOCATION:Rising Sun Church of God 1006 Hopewell Road Port Deposit\, Me 21904
UID:e.2019.3989
SEQUENCE:3
DTSTAMP:20260419T180700Z
URL:http://cecilchamber.chambermaster.com/events/details/everything-is-free-3989
END:VEVENT

END:VCALENDAR
