BEGIN:VCALENDAR
VERSION:2.0
PRODID:-//ChamberMaster//Event Calendar 2.0//EN
METHOD:PUBLISH
X-PUBLISHED-TTL:P3D
REFRESH-INTERVAL:P3D
CALSCALE:GREGORIAN
BEGIN:VEVENT
DTSTART:20200811T150000Z
DTEND:20200811T163000Z
X-MICROSOFT-CDO-ALLDAYEVENT:FALSE
SUMMARY:Leading Change
DESCRIPTION:Author and management consultant Peter Drucker once said\, "The greatest danger in times of turbulence is not the turbulence it is to act with yesterday's logic." Leading is demanding. Change is difficult. Leading change is a challenge that courageous leaders face head on with competency\, confidence\, selflessness. The Leading Change webinar will help you learn leadership and change management strategies to take your team to the next level.
X-ALT-DESC;FMTTYPE=text/html:<span style="background-color:rgb(255\, 255\, 255)\; color:rgb(94\, 94\, 94)\; font-family:open sans\,arial\,sans-serif\; font-size:18px">Author and management consultant Peter Drucker once said\, &ldquo\;The greatest danger in times of turbulence is not the turbulence&mdash\;it is to act with yesterday&rsquo\;s logic.&rdquo\; Leading is demanding. Change is difficult. Leading change is a challenge that courageous leaders face head on with competency\, confidence\, selflessness. The Leading Change webinar will help you learn leadership and change management strategies to take your team to the next level.</span>
LOCATION:Webinar
UID:e.2019.5268
SEQUENCE:3
DTSTAMP:20260426T035043Z
URL:http://cecilchamber.chambermaster.com/events/details/leading-change-5268
END:VEVENT

END:VCALENDAR
