BEGIN:VCALENDAR
VERSION:2.0
PRODID:-//ChamberMaster//Event Calendar 2.0//EN
METHOD:PUBLISH
X-PUBLISHED-TTL:P3D
REFRESH-INTERVAL:P3D
CALSCALE:GREGORIAN
BEGIN:VEVENT
DTSTART:20200512T150000Z
DTEND:20200512T160000Z
X-MICROSOFT-CDO-ALLDAYEVENT:FALSE
SUMMARY:Leading Change: Leadership Panel
DESCRIPTION:Join us live to listen to experienced leaders discuss their success and challenges with navigating through the pandemic.  They will discuss change management\, strategic planning\, employee morale and engagement\, and more.  Text "panel" to 31996 to register or email Fonda Wynn at fonda@wynnconsultants.com.
X-ALT-DESC;FMTTYPE=text/html:Join us live to listen to experienced leaders discuss their success and challenges with navigating through the pandemic.&nbsp\; They will discuss change management\, strategic planning\, employee morale and engagement\, and more.&nbsp\; Text &quot\;panel&quot\; to 31996 to register or email Fonda Wynn at fonda@wynnconsultants.com.&nbsp\;&nbsp\;
LOCATION:Online
UID:e.2019.5245
SEQUENCE:3
DTSTAMP:20260425T183554Z
URL:http://cecilchamber.chambermaster.com/events/details/leading-change-leadership-panel-5245
END:VEVENT

END:VCALENDAR
