BEGIN:VCALENDAR
VERSION:2.0
PRODID:-//ChamberMaster//Event Calendar 2.0//EN
METHOD:PUBLISH
X-PUBLISHED-TTL:P3D
REFRESH-INTERVAL:P3D
CALSCALE:GREGORIAN
BEGIN:VEVENT
DTSTART:20200331T160000Z
DTEND:20200331T170000Z
X-MICROSOFT-CDO-ALLDAYEVENT:FALSE
SUMMARY:Leading Through Crisis - Mastermind Introduction
DESCRIPTION:As you know\, the COVID-19 is widely spreading across our globe and it is instilling fear in millions of people and causing a disruption for many businesses and organizations.\n\nThere's no better time than now for the leaders to arise and begin to offer hope and strategic leadership in your business\, organization and community. This event is for everyone\, because we are all dealing with this crisis and having to lead in someway. \n\nJoin me as i introduce to you\, Leading Through Crisis Mastermind and answer any and all questions that you may have.\n\nThere is no perfect time then now\, to invest in your people - when a vast majority are working remotely.\n\nThis will be a Zoom Call and once you register - you will be emailed the Zoom Information 24 Hours before this event. This introduction and Q & A is a FREE event but registration is required.\n\n \n\nJamar Henry\, A John Maxwell Coach\, Trainer and Speaker   strongly believes that everything rises and falls on leadership. Jamar is the CEO of Right Now Coaching and Consulting. A business that serves the business community\, by offering leadership\, personal growth training\, team building training as well as business & executive coaching and live simulcast hosted throughout the year. If you and your team are ready to grow to the next level and discover where you are\, as well develop and execute a true and proven plan of growth and development\, to take you and your team to the next level then call Right Now Coaching and Consulting today at 302-287-9109.
X-ALT-DESC;FMTTYPE=text/html:<p>As you know\, the COVID-19 is widely spreading across our globe and it is instilling fear in millions of people and causing a disruption for many businesses and organizations.</p>\n\n<p>There&#39\;s no better time than now for the leaders to arise and begin to offer hope and strategic leadership in your business\, organization and community. This event is for everyone\, because we are all dealing with this crisis and having to lead in someway.&nbsp\;</p>\n\n<p>Join me as i introduce to you\,&nbsp\;<em><strong>Leading Through Crisis Mastermind</strong></em>&nbsp\;and answer any and all questions that you may have.</p>\n\n<p>There is no perfect time then now\, to invest in your people - when a vast majority are working remotely.</p>\n\n<p>This will be a Zoom Call and once you register - you will be emailed the Zoom Information 24 Hours before this event.&nbsp\;<strong>This introduction and Q &amp\; A is a FREE event but registration is required.</strong></p>\n\n<p>&nbsp\;</p>\n\n<p>Jamar Henry\, A John Maxwell Coach\, Trainer and Speaker &ndash\; strongly believes that everything rises and falls on leadership. Jamar is the CEO of Right Now Coaching and Consulting. A business that serves the business community\, by offering leadership\, personal growth training\, team building training as well as business &amp\; executive coaching and live simulcast hosted throughout the year. If you and your team are ready to grow to the next level and discover where you are\, as well develop and execute a true and proven plan of growth and development\, to take you and your team to the next level then call Right Now Coaching and Consulting today at 302-287-9109.</p>\n
LOCATION:Virtually from your home or office. A link will be sent to all registrants.
UID:e.2019.5234
SEQUENCE:3
DTSTAMP:20260421T235617Z
URL:http://cecilchamber.chambermaster.com/events/details/leading-through-crisis-mastermind-introduction-5234
END:VEVENT

END:VCALENDAR
