BEGIN:VCALENDAR
VERSION:2.0
PRODID:-//ChamberMaster//Event Calendar 2.0//EN
METHOD:PUBLISH
X-PUBLISHED-TTL:P3D
REFRESH-INTERVAL:P3D
CALSCALE:GREGORIAN
BEGIN:VEVENT
DTSTART:20200420T120000Z
DTEND:20200420T140000Z
X-MICROSOFT-CDO-ALLDAYEVENT:FALSE
SUMMARY:Legislative Wrap-up Breakfast
DESCRIPTION:Due to concerns surrounding COVID-19\, this event has been canceled.  \n\n\n\nThe Cecil County Chamber of Commerce's Government Relations Committee invite you to attend this year's Legislative Wrap-Up Breakfast. Learn what took place during the 2020 session of the MD General Assembly. Meet your State representatives and expand your business contacts.\n\n\n\nInvited Speakers: \n\nDistrict 35: Senator Jason Gallion\, Delegate Kevin Hornberger\, Delegate Mike Griffith\n\nDistrict 36: Senator Stephen Hershey\, Delegates Steven Arentz\, Jeff Ghrist\, Jay Jacobs\n\n\n\nSponsorship Opportunities:\n\n$500 - 4 seats at event\; your business logo on all pre-event materials\; signage at the event\n\n$200 - 2 seats at event\; your business logo on all pre-event materials\; signage at the event\n\nClick register now above to sign up!
X-ALT-DESC;FMTTYPE=text/html:<span style="font-size:14px\;"><span style="color:#FF0000\;">Due to concerns surrounding COVID-19\, this event has been canceled.&nbsp\; </span><br />\n<br />\n<span style="font-size:16px\;"><span style="font-style: italic\;"><span style="color: rgb(0\, 0\, 2)\;"><span style="font-family: arial\;">The</span></span></span><span style="font-style: italic\;"><span style="color: rgb(0\, 0\, 2)\;"><span style="font-family: arial\;"> Cecil County Chamber of Commerce&#39\;s Government Relations Committee </span></span></span><span style="font-style: italic\;"><span style="color: rgb(0\, 0\, 2)\;"><span style="font-family: arial\;">invite you to attend this year&#39\;s Legislative Wrap-Up Breakfast.</span></span></span><span style="font-style: italic\;"><span style="color: rgb(0\, 0\, 2)\;"><span style="font-family: arial\;"> Learn what took place during the 2020 session of the MD General Assembly. </span></span></span><span style="font-style: italic\;"><span style="color: rgb(0\, 0\, 2)\;"><span style="font-family: arial\;">Meet your State representatives and expand your business contacts.</span></span></span></span><br />\n<br />\n<span style="font-size:16px\;"><span style="color: rgb(0\, 0\, 2)\;"><span style="font-family: arial\;">Invited Speakers: </span></span><br />\n<span style="color: rgb(0\, 0\, 2)\;"><span style="font-family: arial\;">D</span></span><span style="color:#000000\;"><span style="font-family: arial\;">istrict 35: Senator Jason Gallion\, Delegate Kevin Hornberger</span>\, Delegate Mike Griffith<br />\n<span style="font-family: arial\;">District 36: Senator Stephen Hershey\, Delegates Steven Arentz\, Jeff Ghrist\, Jay Jacobs</span></span><br />\n<br />\n<span style="color: rgb(0\, 0\, 2)\;"><span style="font-family: arial\;">Sponsorship Opportunities:<br />\n$500 - 4 seats at event\; your business logo on all pre-event materials\; signage at the event<br />\n$200 - 2 seats at event\; your business logo on all pre-event materials\; signage at the event<br />\n<em>Click register now above to sign up!</em></span></span></span></span>
LOCATION:Minker Banquet Hall Perryville\, MD
UID:e.2019.5222
SEQUENCE:3
DTSTAMP:20260422T190238Z
URL:http://cecilchamber.chambermaster.com/events/details/legislative-wrap-up-breakfast-5222
END:VEVENT

END:VCALENDAR
