BEGIN:VCALENDAR
VERSION:2.0
PRODID:-//ChamberMaster//Event Calendar 2.0//EN
METHOD:PUBLISH
X-PUBLISHED-TTL:P3D
REFRESH-INTERVAL:P3D
CALSCALE:GREGORIAN
BEGIN:VEVENT
DTSTART:20190520T220000Z
DTEND:20190521T000000Z
X-MICROSOFT-CDO-ALLDAYEVENT:FALSE
SUMMARY:QuickBooks Online Training
DESCRIPTION:Linda Baker\, certified QuickBooks Pro Advisor will discuss the necessary steps to set-up a QuickBooks Online account\, discuss ways to keep track of your business expenses\, explain deductions and record keeping.
X-ALT-DESC;FMTTYPE=text/html:Linda Baker\, certified QuickBooks Pro Advisor will discuss the necessary steps to set-up a QuickBooks Online account\, discuss ways to keep track of your business expenses\, explain deductions and record keeping.
LOCATION:Elkton Central Library 301 Newark Avenue
UID:e.2019.3971
SEQUENCE:3
DTSTAMP:20260419T194339Z
URL:http://cecilchamber.chambermaster.com/events/details/quickbooks-online-training-3971
END:VEVENT

END:VCALENDAR
