BEGIN:VCALENDAR
VERSION:2.0
PRODID:-//ChamberMaster//Event Calendar 2.0//EN
METHOD:PUBLISH
X-PUBLISHED-TTL:P3D
REFRESH-INTERVAL:P3D
CALSCALE:GREGORIAN
BEGIN:VEVENT
DTSTART:20200307T230000Z
DTEND:20200308T010000Z
X-MICROSOFT-CDO-ALLDAYEVENT:FALSE
SUMMARY:Twilight Trek
DESCRIPTION:Say goodbye to the late\, dark nights of winter with one last hurrah! Before we spring forward\, join a Ranger on a two-mile round-trip hike to the Turkey Point Lighthouse. Discover local nighttime wildlife that thrive during this time of night. Parking is limited\; reservations required! $3 per person or $10 for a family of four.
X-ALT-DESC;FMTTYPE=text/html:Say goodbye to the late\, dark nights of winter with one last hurrah! Before we spring forward\, join a Ranger on a two-mile round-trip hike to the Turkey Point Lighthouse. Discover local nighttime wildlife that thrive during this time of night. Parking is limited\; reservations required! $3 per person or $10 for a family of four.
LOCATION:Turkey Point Lighthouse Area Elk Neck State Park 4395 Turkey Point Road North East\, MD 21901
UID:e.2019.5129
SEQUENCE:3
DTSTAMP:20260423T224654Z
URL:http://cecilchamber.chambermaster.com/events/details/twilight-trek-5129
END:VEVENT

END:VCALENDAR
