BEGIN:VCALENDAR
VERSION:2.0
PRODID:-//ChamberMaster//Event Calendar 2.0//EN
METHOD:PUBLISH
X-PUBLISHED-TTL:P3D
REFRESH-INTERVAL:P3D
CALSCALE:GREGORIAN
BEGIN:VEVENT
DTSTART:20200624T140000Z
DTEND:20200624T150000Z
X-MICROSOFT-CDO-ALLDAYEVENT:FALSE
SUMMARY:Virtual Chamber 101
DESCRIPTION:Special to this month's Chamber 101:  We will be having a guest speaker\, Kathy Glace from Cecil County Community Mediation Center.  Kathy will share her insight on how to broaden the conversation regarding community interaction programs that require humanity and commitment to public service.   How to reinforce the positive impact police programs and outreach have in supporting safe\, strong communities.  And how to celebrate the people who serve our communities with honor\, dignity\, and respect.\n\n\n\n---------------------------------------------------------------------\n\nAre you a new Member?\n\nDo you have a New Employee?\n\nThinking of becoming a Member?\n\n\n\nJoin us for the next Chamber 101 virtually for an overview of the Chamber\, information on how best to leverage your benefits and networking opportunities to help you be successful while making business connections.\n\nLearn more about how the Chamber connects members to:\n\nAdvocacy: Learn more about the public policy issues that impact Cecil County companies and how you can get more involved in the Chamber's advocacy efforts.\n\nNetworking: Find out more about upcoming events and networking opportunities for Chamber Members. By attending events and participating on committees\, members work to strengthen Cecil County's business climate while building a strong network of connections to grow their business.\n\nCommittees: Serving on committees is a great way to get involved in the Chamber\, raise your company's visibility and grow your network.\nOpportunities to Gain Visibility: The Chamber's website\, awards programs\, and sponsorship opportunities offer member companies a number of ways to increase visibility and gain recognition.\n\n\n\nSponsor a Chamber 101!\n\nSponsorship recognition on all pre-event marketing and time to speak on call. Contact Katie to sign up!
X-ALT-DESC;FMTTYPE=text/html:<p><span style="font-size:16px\;"><span style="font-family:arial\;">Special to this month&#39\;s Chamber 101:&nbsp\; We will be having a guest speaker\, Kathy Glace from Cecil County Community Mediation Center.&nbsp\; Kathy will share her insight on how to broaden the conversation regarding community interaction programs that require humanity and commitment to public service.&nbsp\;&nbsp\; How to reinforce the positive impact police programs and outreach have in supporting safe\, strong communities.&nbsp\; And how to celebrate the people who serve our communities with honor\, dignity\, and respect.</span></span><br />\n<br />\n<span style="color:#000000\;"><span style="font-size:14px\;"><span style="font-family: arial\,sans-serif\;"><span style="font-size:16px\;">---------------------------------------------------------------------<br />\nAre you a new Member?<br />\nDo you have a New Employee?<br />\nThinking of becoming a Member?</span></span></span></span><br />\n<br />\n<span style="font-size: 16px\; color: rgb(0\, 0\, 0)\; font-family: Arial\, Verdana\, Helvetica\, sans-serif\;">Join us for the next Chamber 101 </span><span style="font-size: 16px\; color: rgb(0\, 0\, 0)\; font-family: Arial\, Verdana\, Helvetica\, sans-serif\; font-style: italic\;">virtually </span><span style="font-size: 16px\; color: rgb(0\, 0\, 0)\; font-family: Arial\, Verdana\, Helvetica\, sans-serif\;">for an overview of the Chamber\, information on how best to leverage your benefits and networking opportunities to help you be successful while making business connections.</span></p>\n\n<p><span style="font-size:16px\;"><span style="color:#000000\;"><span style="font-family: arial\;">Learn more about how the Chamber connects members to:</span></span></span></p>\n\n<p><span style="font-size:16px\;"><span style="color:#000000\;"><span style="font-family: arial\;"><strong>Advocacy: </strong>Learn more about the public policy issues that impact Cecil County companies and how you can get more involved in the Chamber&#39\;s advocacy efforts.</span></span></span></p>\n\n<p><span style="font-size:16px\;"><span style="color:#000000\;"><span style="font-family: arial\;"><strong>Networking</strong>: Find out more about upcoming events and networking opportunities for Chamber Members. By attending events and participating on committees\, members work to strengthen Cecil County&#39\;s business climate while building a strong network of connections to grow their business.</span></span></span></p>\n\n<p><span style="font-size:16px\;"><span style="color:#000000\;"><span style="font-family: arial\;"><strong>Committees: </strong>Serving on committees is a great way to get involved in the Chamber\, raise your company&#39\;s visibility and grow your network.</span></span></span></p>\n<span style="font-size:16px\;"><span style="color:#000000\;"><span style="font-family: arial\;"><strong>Opportunities to Gain Visibility: </strong>The Chamber&#39\;s website\, awards programs\, and sponsorship opportunities offer member companies a number of ways to increase visibility and gain recognition.<br />\n<br />\n<strong>Sponsor a Chamber 101!</strong></span></span></span>\n\n<div><span style="font-size: 16px\; color: rgb(0\, 0\, 0)\; font-family: Arial\, Verdana\, Helvetica\, sans-serif\;">Sponsorship recognition on all pre-event marketing and time to speak on call. Contact </span><a data-link-type="email" href="mailto:klewis@cecilchamber.com" rel="noopener noreferrer" style="font-size: 16px\; color: rgb(15\, 135\, 201)\; font-family: Arial\, Verdana\, Helvetica\, sans-serif\;" target="_blank">Katie </a><span style="font-size: 16px\; color: rgb(0\, 0\, 0)\; font-family: Arial\, Verdana\, Helvetica\, sans-serif\;">to sign up!</span></div>\n
LOCATION:Your location Information for Zoom call will be sent via-email the day prior to event
UID:e.2019.5257
SEQUENCE:3
DTSTAMP:20260423T232749Z
URL:http://cecilchamber.chambermaster.com/events/details/virtual-chamber-101-5257
END:VEVENT

END:VCALENDAR
