BEGIN:VCALENDAR
VERSION:2.0
PRODID:-//ChamberMaster//Event Calendar 2.0//EN
METHOD:PUBLISH
X-PUBLISHED-TTL:P3D
REFRESH-INTERVAL:P3D
CALSCALE:GREGORIAN
BEGIN:VEVENT
DTSTART:20200505T140000Z
DTEND:20200505T150000Z
X-MICROSOFT-CDO-ALLDAYEVENT:FALSE
SUMMARY:Virtual Coffee Chat
DESCRIPTION:Grab your favorite coffee cup and let's chat!!\n\n\n\nThis chat is limited to 15 people so sign up now!\n\n\nWe hope this will give everyone a chance to network\, speak about their business and services\, and make connections with other people in the business community.
X-ALT-DESC;FMTTYPE=text/html:<div>\n<div _mce_style="text-align: center\; font-size: 11pt\; color: #000000\;" style="font-size: 11pt\; color: rgb(0\, 0\, 0)\;"><strong>Grab your favorite coffee cup and let&#39\;s chat!!</strong><br />\n<br />\n<span>This chat is limited to 15 people so sign up now!</span>\n<div style="font-size:11pt\;"><br />\n<span>We hope this will give everyone a chance to network\, speak about their business and services\, and make connections with other people in the business community.</span></div>\n</div>\n</div>\n
LOCATION:Your location
UID:e.2019.5243
SEQUENCE:3
DTSTAMP:20260423T075505Z
URL:http://cecilchamber.chambermaster.com/events/details/virtual-coffee-chat-5243
END:VEVENT

END:VCALENDAR
