BEGIN:VCALENDAR
VERSION:2.0
PRODID:-//ChamberMaster//Event Calendar 2.0//EN
METHOD:PUBLISH
X-PUBLISHED-TTL:P3D
REFRESH-INTERVAL:P3D
CALSCALE:GREGORIAN
BEGIN:VEVENT
DTSTART:20200514T190000Z
DTEND:20200514T200000Z
X-MICROSOFT-CDO-ALLDAYEVENT:FALSE
SUMMARY:Virtual Mingle Chat
DESCRIPTION:We will be limiting these to 15 people per Mingle.\nAt this time\, we will not limit this to one person per industry\n\n\n\nWe hope this will give everyone a chance to network\, speak about their business and services\, and make connections with other people in the business community.
X-ALT-DESC;FMTTYPE=text/html:<div>\n<div _mce_style="text-align: center\; font-size: 11pt\; color: #000000\;" style="font-size: 11pt\; color: rgb(0\, 0\, 0)\;"><span>We will be limiting these to 15 people per Mingle.</span>\n<div style="font-size:11pt\;"><span>At this time\, we will not limit this to</span><span> one person per industry<br />\n<br />\nWe hope this will give everyone a chance to network\, speak about their business and services\, and make connections with other people in the business community.</span></div>\n</div>\n</div>\n
LOCATION:Your location Information for Zoom call will be sent via-email the day prior to event
UID:e.2019.5244
SEQUENCE:3
DTSTAMP:20260422T153304Z
URL:http://cecilchamber.chambermaster.com/events/details/virtual-mingle-chat-5244
END:VEVENT

END:VCALENDAR
