BEGIN:VCALENDAR
VERSION:2.0
PRODID:-//ChamberMaster//Event Calendar 2.0//EN
METHOD:PUBLISH
X-PUBLISHED-TTL:P3D
REFRESH-INTERVAL:P3D
CALSCALE:GREGORIAN
BEGIN:VEVENT
DTSTART:20200623T140000Z
DTEND:20200623T150000Z
X-MICROSOFT-CDO-ALLDAYEVENT:FALSE
SUMMARY:Virtual Network Marketing Roundtable
DESCRIPTION:The Network Marketing roundtable exists to facilitate the support of our members in the areas of Social Media\, Marketing\, Advertising and Peer to Peer Networking.  Our mission is to educate and collaborate with our members via a monthly meeting\, as well as\, other opportunities both within and external to the Cecil Commerce.
X-ALT-DESC;FMTTYPE=text/html:<span style="font-family:arial\,sans-serif\;"><span style="font-size:10.5pt\;">The Network Marketing roundtable exists to facilitate the support of our members in the areas of Social Media\, Marketing\, Advertising and Peer to Peer Networking.&nbsp\; Our mission is to educate and collaborate with our members via a monthly meeting\, as well as\, other opportunities both within and external to the Cecil Commerce.</span></span>
LOCATION:Zoom conference call
UID:e.2019.5246
SEQUENCE:3
DTSTAMP:20260423T082115Z
URL:http://cecilchamber.chambermaster.com/events/details/virtual-network-marketing-roundtable-5246
END:VEVENT

END:VCALENDAR
