BEGIN:VCALENDAR
VERSION:2.0
PRODID:-//ChamberMaster//Event Calendar 2.0//EN
METHOD:PUBLISH
X-PUBLISHED-TTL:P3D
REFRESH-INTERVAL:P3D
CALSCALE:GREGORIAN
BEGIN:VEVENT
DTSTART:20191222T200000Z
DTEND:20191222T230000Z
X-MICROSOFT-CDO-ALLDAYEVENT:FALSE
SUMMARY:Wrap Party
DESCRIPTION:Leave the wrapping to us. Bring your gifts to be hand wrapped while you wine & listen to live music by John Rodden from 3pm to 6pm. During the holiday season\, help support our furry family too. Donations will be accepted throughout the day to benefit Cecil County Animal Services.
X-ALT-DESC;FMTTYPE=text/html:Leave the wrapping to us. Bring your gifts to be hand wrapped while you wine &amp\; listen to live music by John Rodden from 3pm to 6pm. During the holiday season\, help support our furry family too. Donations will be accepted throughout the day to benefit Cecil County Animal Services.
LOCATION:Broken Spoke Winery
UID:e.2019.5111
SEQUENCE:3
DTSTAMP:20260422T012214Z
URL:http://cecilchamber.chambermaster.com/events/details/wrap-party-5111
END:VEVENT

END:VCALENDAR
